BEGIN:VCALENDAR
VERSION:2.0
PRODID:-//B2X Startup Symposium - ECPv6.15.20//NONSGML v1.0//EN
CALSCALE:GREGORIAN
METHOD:PUBLISH
X-WR-CALNAME:B2X Startup Symposium
X-ORIGINAL-URL:https://b2x.startupsymposium.com
X-WR-CALDESC:Events for B2X Startup Symposium
REFRESH-INTERVAL;VALUE=DURATION:PT1H
X-Robots-Tag:noindex
X-PUBLISHED-TTL:PT1H
BEGIN:VTIMEZONE
TZID:America/Los_Angeles
BEGIN:DAYLIGHT
TZOFFSETFROM:-0800
TZOFFSETTO:-0700
TZNAME:PDT
DTSTART:20190310T100000
END:DAYLIGHT
BEGIN:STANDARD
TZOFFSETFROM:-0700
TZOFFSETTO:-0800
TZNAME:PST
DTSTART:20191103T090000
END:STANDARD
BEGIN:DAYLIGHT
TZOFFSETFROM:-0800
TZOFFSETTO:-0700
TZNAME:PDT
DTSTART:20200308T100000
END:DAYLIGHT
BEGIN:STANDARD
TZOFFSETFROM:-0700
TZOFFSETTO:-0800
TZNAME:PST
DTSTART:20201101T090000
END:STANDARD
BEGIN:DAYLIGHT
TZOFFSETFROM:-0800
TZOFFSETTO:-0700
TZNAME:PDT
DTSTART:20210314T100000
END:DAYLIGHT
BEGIN:STANDARD
TZOFFSETFROM:-0700
TZOFFSETTO:-0800
TZNAME:PST
DTSTART:20211107T090000
END:STANDARD
BEGIN:DAYLIGHT
TZOFFSETFROM:-0800
TZOFFSETTO:-0700
TZNAME:PDT
DTSTART:20220313T100000
END:DAYLIGHT
BEGIN:STANDARD
TZOFFSETFROM:-0700
TZOFFSETTO:-0800
TZNAME:PST
DTSTART:20221106T090000
END:STANDARD
BEGIN:DAYLIGHT
TZOFFSETFROM:-0800
TZOFFSETTO:-0700
TZNAME:PDT
DTSTART:20230312T100000
END:DAYLIGHT
BEGIN:STANDARD
TZOFFSETFROM:-0700
TZOFFSETTO:-0800
TZNAME:PST
DTSTART:20231105T090000
END:STANDARD
BEGIN:DAYLIGHT
TZOFFSETFROM:-0800
TZOFFSETTO:-0700
TZNAME:PDT
DTSTART:20240310T100000
END:DAYLIGHT
BEGIN:STANDARD
TZOFFSETFROM:-0700
TZOFFSETTO:-0800
TZNAME:PST
DTSTART:20241103T090000
END:STANDARD
END:VTIMEZONE
BEGIN:VEVENT
DTSTART;TZID=America/Los_Angeles:20231116T123000
DTEND;TZID=America/Los_Angeles:20231116T160000
DTSTAMP:20260425T105217
CREATED:20200719T213232Z
LAST-MODIFIED:20230905T215519Z
UID:2531-1700137800-1700150400@b2x.startupsymposium.com
SUMMARY:Live Judging - all presenters to all investors
DESCRIPTION:ALL TIMES ARE PST \nLive Pitches to All Investors \nStartups will have the opportunity to present a 10-minute pitch followed by a 8-minute Q&A. \nThis is the event link. It ONLY works for registrants. http://l.pismoventures.com/B2XSS
URL:https://b2x.startupsymposium.com/event/live-judging/
CATEGORIES:Live Judging Panel
ATTACH;FMTTYPE=image/jpeg:https://b2x.startupsymposium.com/wp-content/uploads/2020/07/judging-600.jpg
END:VEVENT
BEGIN:VEVENT
DTSTART;TZID=America/Los_Angeles:20231109T083000
DTEND;TZID=America/Los_Angeles:20231109T113000
DTSTAMP:20260425T105217
CREATED:20200719T212939Z
LAST-MODIFIED:20231031T225033Z
UID:2526-1699518600-1699529400@b2x.startupsymposium.com
SUMMARY:Selection Committee
DESCRIPTION:​ALL TIMES ARE PST \nThis is the Selection Committee meeting to select the 10 to 12 companies that will present to the full investor/judge panel on Demo Day. \nThis is the event link. It ONLY works for registrants. http://l.pismoventures.com/B2XSC
URL:https://b2x.startupsymposium.com/event/selection-committee/
CATEGORIES:Live Judging Panel
ATTACH;FMTTYPE=image/jpeg:https://b2x.startupsymposium.com/wp-content/uploads/2020/06/Web-BusinessmanMakingDecisions-e1698792617963.jpg
END:VEVENT
BEGIN:VEVENT
DTSTART;TZID=America/Los_Angeles:20211028T120000
DTEND;TZID=America/Los_Angeles:20211028T150000
DTSTAMP:20260425T105217
CREATED:20200719T210249Z
LAST-MODIFIED:20210907T164634Z
UID:2487-1635422400-1635433200@b2x.startupsymposium.com
SUMMARY:Wildcard Applicants Present Live to Judging Panel
DESCRIPTION:Wildcard Applicants – Live Judging Panel – ALL TIMES ARE PACIFIC TIME ZONE \nStartups will have the opportunity to present a 5-minute pitch followed by a 5-minute Q&A. \nThis is the event link. It ONLY works for registrants.https://rebrand.ly/nvpc-wildcard
URL:https://b2x.startupsymposium.com/event/wildcard-applicants-present-live-to-judging-panel/
CATEGORIES:Live Judging Panel
ATTACH;FMTTYPE=image/jpeg:https://b2x.startupsymposium.com/wp-content/uploads/2020/07/Live-Judging-Wildcard-Group.jpg
END:VEVENT
BEGIN:VEVENT
DTSTART;TZID=America/Los_Angeles:20211026T120000
DTEND;TZID=America/Los_Angeles:20211026T150000
DTSTAMP:20260425T105217
CREATED:20200719T205839Z
LAST-MODIFIED:20210907T164257Z
UID:2481-1635249600-1635260400@b2x.startupsymposium.com
SUMMARY:Life Sciences Applicants Present Live to Judging Panel
DESCRIPTION:Life Sciences\, Med Tech\, Healthcare – Live Judging Panel – ALL TIMES ARE PACIFIC TIME ZONE \nStartups will have the opportunity to present a 5-minute pitch followed by a 5-minute Q&A. \nThis is the event link. It ONLY works for registrants.https://rebrand.ly/nvpc–lsmth
URL:https://b2x.startupsymposium.com/event/life-sciences-applicants-present-live-to-judging-panel/
CATEGORIES:Live Judging Panel
ATTACH;FMTTYPE=image/jpeg:https://b2x.startupsymposium.com/wp-content/uploads/2020/07/MEDPP.jpg
END:VEVENT
BEGIN:VEVENT
DTSTART;TZID=America/Los_Angeles:20211021T120000
DTEND;TZID=America/Los_Angeles:20211021T150000
DTSTAMP:20260425T105217
CREATED:20200719T205246Z
LAST-MODIFIED:20210526T093247Z
UID:2476-1634817600-1634828400@b2x.startupsymposium.com
SUMMARY:B2C Applicants Present Live to Judging Panel
DESCRIPTION:Consumer Products or Services (B2C) – Live Judging Panel – ALL TIMES ARE PACIFIC TIME ZONE \nStartups will have the opportunity to present a 5-minute pitch followed by a 5-minute Q&A. \nThis is the event link. It ONLY works for registrants.https://rebrand.ly/npvc-b2c
URL:https://b2x.startupsymposium.com/event/b2c-applicants-present-live-to-judging-panel/
CATEGORIES:Live Judging Panel
ATTACH;FMTTYPE=image/jpeg:https://b2x.startupsymposium.com/wp-content/uploads/2020/07/B2CPP2.jpg
END:VEVENT
BEGIN:VEVENT
DTSTART;TZID=America/Los_Angeles:20211019T120000
DTEND;TZID=America/Los_Angeles:20211019T150000
DTSTAMP:20260425T105217
CREATED:20200719T152821Z
LAST-MODIFIED:20210526T093045Z
UID:2375-1634644800-1634655600@b2x.startupsymposium.com
SUMMARY:B2B Applicants Present Live to Judging Panel
DESCRIPTION:Business Products or Services (B2B) – Live Judging Panel – ALL TIMES ARE PACIFIC TIME ZONE \nStartups will have the opportunity to present a 5-minute pitch followed by a 5-minute Q&A. \nThis is the event link. It ONLY works for registrants.https://rebrand.ly/nvpc-b2b
URL:https://b2x.startupsymposium.com/event/b2b-applicants-present-live-to-judging-panel/
CATEGORIES:Live Judging Panel
ATTACH;FMTTYPE=image/jpeg:https://b2x.startupsymposium.com/wp-content/uploads/2020/07/B2BPP.jpg
END:VEVENT
BEGIN:VEVENT
DTSTART;TZID=America/Los_Angeles:20201029T120000
DTEND;TZID=America/Los_Angeles:20201029T150000
DTSTAMP:20260425T105217
CREATED:20200719T211958Z
LAST-MODIFIED:20200913T022242Z
UID:2515-1603972800-1603983600@b2x.startupsymposium.com
SUMMARY:Digital Solutions Applicants Present Live to Judging Panel
DESCRIPTION:Digital Solutions (Media\, Web\, App\, E-Sports\, etc…) – Live Judging Panel – ALL TIMES ARE PACIFIC TIME ZONE \nStartups will have the opportunity to present a 5-minute pitch followed by a 5-minute Q&A. \nThis is the event link. It ONLY works for registrants.https://us02web.zoom.us/j/88921985936?pwd=ME9HSUtVZm1BMEFmekpZbDI2eEt3Zz09
URL:https://b2x.startupsymposium.com/event/digital-solutions-applicants-present-live-to-judging-panel/
CATEGORIES:Live Judging Panel
ATTACH;FMTTYPE=image/jpeg:https://b2x.startupsymposium.com/wp-content/uploads/2020/07/DSPP.jpg
END:VEVENT
BEGIN:VEVENT
DTSTART;TZID=America/Los_Angeles:20201027T120000
DTEND;TZID=America/Los_Angeles:20201027T150000
DTSTAMP:20260425T105217
CREATED:20200719T211635Z
LAST-MODIFIED:20200913T021908Z
UID:2509-1603800000-1603810800@b2x.startupsymposium.com
SUMMARY:AI Blockchain Robotics Applicants Present Live to Judging Panel
DESCRIPTION:AI\, Blockchain\, Robotics – Live Judging Panel – ALL TIMES ARE PACIFIC TIME ZONE \nStartups will have the opportunity to present a 5-minute pitch followed by a 5-minute Q&A. \nThis is the event link. It ONLY works for registrants.https://us02web.zoom.us/j/85705142694?pwd=UE5YcDlvTXN5VmJBRW9zM0pQcm5vdz09
URL:https://b2x.startupsymposium.com/event/ai-blockchain-robotics-applicants-present-live-to-judging-panel/
CATEGORIES:Live Judging Panel
ATTACH;FMTTYPE=image/jpeg:https://b2x.startupsymposium.com/wp-content/uploads/2020/07/AIBCRPP.jpg
END:VEVENT
BEGIN:VEVENT
DTSTART;TZID=America/Los_Angeles:20201026T120000
DTEND;TZID=America/Los_Angeles:20201026T150000
DTSTAMP:20260425T105217
CREATED:20200719T211319Z
LAST-MODIFIED:20200913T021704Z
UID:2503-1603713600-1603724400@b2x.startupsymposium.com
SUMMARY:Hardware Software Technology Applicants Present Live to Judging Panel
DESCRIPTION:Hardware or Software Technology – Live Judging Panel – ALL TIMES ARE PACIFIC TIME ZONE \nStartups will have the opportunity to present a 5-minute pitch followed by a 5-minute Q&A. \nThis is the event link. It ONLY works for registrants.https://us02web.zoom.us/j/86251723527?pwd=ZytHeVlJa09zNThaQkI5a0RaS29HUT09
URL:https://b2x.startupsymposium.com/event/hardware-software-technology-applicants-present-live-to-judging-panel/
CATEGORIES:Live Judging Panel
ATTACH;FMTTYPE=image/jpeg:https://b2x.startupsymposium.com/wp-content/uploads/2020/07/HSTPP.jpg
END:VEVENT
BEGIN:VEVENT
DTSTART;TZID=America/Los_Angeles:20201022T120000
DTEND;TZID=America/Los_Angeles:20201022T150000
DTSTAMP:20260425T105217
CREATED:20200719T210950Z
LAST-MODIFIED:20200913T021414Z
UID:2498-1603368000-1603378800@b2x.startupsymposium.com
SUMMARY:Fin Tech Applicants Present Live to Judging Panel
DESCRIPTION:Financial Technologies (Fin Tech) – Live Judging Panel – ALL TIMES ARE PACIFIC TIME ZONE \nStartups will have the opportunity to present a 5-minute pitch followed by a 5-minute Q&A. \nThis is the event link. It ONLY works for registrants.https://us02web.zoom.us/j/81297763442?pwd=ZCttOG9hR2ZXdnhXSGJNNkhYTXU5dz09
URL:https://b2x.startupsymposium.com/event/fin-tech-applicants-present-live-to-judging-panel/
CATEGORIES:Live Judging Panel
ATTACH;FMTTYPE=image/jpeg:https://b2x.startupsymposium.com/wp-content/uploads/2020/07/FTPP.jpg
END:VEVENT
BEGIN:VEVENT
DTSTART;TZID=America/Los_Angeles:20201020T120000
DTEND;TZID=America/Los_Angeles:20201020T150000
DTSTAMP:20260425T105217
CREATED:20200719T210617Z
LAST-MODIFIED:20200913T021150Z
UID:2492-1603195200-1603206000@b2x.startupsymposium.com
SUMMARY:Clean Tech Applicants Present Live to Judging Panel
DESCRIPTION:Clean Technologies – Live Judging Panel – ALL TIMES ARE PACIFIC TIME ZONE \nStartups will have the opportunity to present a 5-minute pitch followed by a 5-minute Q&A. \nThis is the event link. It ONLY works for registrants.https://us02web.zoom.us/j/82001011175?pwd=clk3Tjh1RlRlbmd6OTdJNzFsUDhRQT09
URL:https://b2x.startupsymposium.com/event/clean-tech-applicants-present-live-to-judging-panel/
CATEGORIES:Live Judging Panel
ATTACH;FMTTYPE=image/jpeg:https://b2x.startupsymposium.com/wp-content/uploads/2020/07/CTPP.jpg
END:VEVENT
BEGIN:VEVENT
DTSTART;TZID=America/Los_Angeles:20201016T143000
DTEND;TZID=America/Los_Angeles:20201016T160000
DTSTAMP:20260425T105217
CREATED:20201010T220713Z
LAST-MODIFIED:20201010T220935Z
UID:3405-1602858600-1602864000@b2x.startupsymposium.com
SUMMARY:Life Sciences Applicants Present Live to Judging Panel - GROUP 2
DESCRIPTION:Life Sciences\, Med Tech\, Healthcare – Live Judging Panel – GROUP #2 – ALL TIMES ARE PACIFIC TIME ZONE \nStartups will have the opportunity to present a 5-minute pitch followed by a 5-minute Q&A. \nThis is the event link. It ONLY works for registrants.https://us02web.zoom.us/webinar/register/WN_LS0_3skyQJiWOJtrBibAQQ
URL:https://b2x.startupsymposium.com/event/life-sciences-applicants-present-live-to-judging-panel-group-2/
CATEGORIES:Live Judging Panel
ATTACH;FMTTYPE=image/jpeg:https://b2x.startupsymposium.com/wp-content/uploads/2020/07/MEDPP.jpg
END:VEVENT
END:VCALENDAR