BEGIN:VCALENDAR
VERSION:2.0
PRODID:-//B2X Startup Symposium - ECPv6.15.20//NONSGML v1.0//EN
CALSCALE:GREGORIAN
METHOD:PUBLISH
X-WR-CALNAME:B2X Startup Symposium
X-ORIGINAL-URL:https://b2x.startupsymposium.com
X-WR-CALDESC:Events for B2X Startup Symposium
REFRESH-INTERVAL;VALUE=DURATION:PT1H
X-Robots-Tag:noindex
X-PUBLISHED-TTL:PT1H
BEGIN:VTIMEZONE
TZID:America/Los_Angeles
BEGIN:DAYLIGHT
TZOFFSETFROM:-0800
TZOFFSETTO:-0700
TZNAME:PDT
DTSTART:20190310T100000
END:DAYLIGHT
BEGIN:STANDARD
TZOFFSETFROM:-0700
TZOFFSETTO:-0800
TZNAME:PST
DTSTART:20191103T090000
END:STANDARD
BEGIN:DAYLIGHT
TZOFFSETFROM:-0800
TZOFFSETTO:-0700
TZNAME:PDT
DTSTART:20200308T100000
END:DAYLIGHT
BEGIN:STANDARD
TZOFFSETFROM:-0700
TZOFFSETTO:-0800
TZNAME:PST
DTSTART:20201101T090000
END:STANDARD
BEGIN:DAYLIGHT
TZOFFSETFROM:-0800
TZOFFSETTO:-0700
TZNAME:PDT
DTSTART:20210314T100000
END:DAYLIGHT
BEGIN:STANDARD
TZOFFSETFROM:-0700
TZOFFSETTO:-0800
TZNAME:PST
DTSTART:20211107T090000
END:STANDARD
BEGIN:DAYLIGHT
TZOFFSETFROM:-0800
TZOFFSETTO:-0700
TZNAME:PDT
DTSTART:20220313T100000
END:DAYLIGHT
BEGIN:STANDARD
TZOFFSETFROM:-0700
TZOFFSETTO:-0800
TZNAME:PST
DTSTART:20221106T090000
END:STANDARD
END:VTIMEZONE
BEGIN:VEVENT
DTSTART;TZID=America/Los_Angeles:20211101T000000
DTEND;TZID=America/Los_Angeles:20211101T000000
DTSTAMP:20260425T155055
CREATED:20200622T070041Z
LAST-MODIFIED:20210517T231844Z
UID:1531-1635724800-1635724800@b2x.startupsymposium.com
SUMMARY:Round 3 Begins
DESCRIPTION:Round #3 begins to choose the #1 winner with the highest score.Judges and investors review and score the top 10 applications. After review and scoring\, the competition winner with the highest scores will be chosen.
URL:https://b2x.startupsymposium.com/event/round-3-begins/
CATEGORIES:Event Timeline
ATTACH;FMTTYPE=image/jpeg:https://b2x.startupsymposium.com/wp-content/uploads/2020/06/Pismo-Ventures-National-Venture-Plan-Competition-16.jpg
END:VEVENT
BEGIN:VEVENT
DTSTART;VALUE=DATE:20211018
DTEND;VALUE=DATE:20211019
DTSTAMP:20260425T155055
CREATED:20200622T062655Z
LAST-MODIFIED:20210518T224715Z
UID:1509-1634515200-1634601599@b2x.startupsymposium.com
SUMMARY:Round 2 Begins
DESCRIPTION:ALL TIMES ARE PST. \nRound #2 begins to choose the top 10 applicants with the highest scores. Judges and investors review and score the top 100 applications. After review and scoring\, the top 10 businesses with the highest scores will be chosen to move to round #3.
URL:https://b2x.startupsymposium.com/event/round-2-begins/
CATEGORIES:Event Timeline
ATTACH;FMTTYPE=image/jpeg:https://b2x.startupsymposium.com/wp-content/uploads/2020/06/Pismo-Ventures-National-Venture-Plan-Competition-10.jpg
END:VEVENT
BEGIN:VEVENT
DTSTART;VALUE=DATE:20211017
DTEND;VALUE=DATE:20211018
DTSTAMP:20260425T155055
CREATED:20200622T062036Z
LAST-MODIFIED:20210518T224542Z
UID:1503-1634428800-1634515199@b2x.startupsymposium.com
SUMMARY:Deadline Plan Deck and Video Updates
DESCRIPTION:ALL TIMES ARE PST. \nLast date to update plan\, deck and video for the top 100 who made it to round #2.
URL:https://b2x.startupsymposium.com/event/deadline-plan-deck-and-video-updates/
CATEGORIES:Event Timeline
ATTACH;FMTTYPE=image/jpeg:https://b2x.startupsymposium.com/wp-content/uploads/2020/06/Pismo-Ventures-National-Venture-Plan-Competition-8.jpg
END:VEVENT
BEGIN:VEVENT
DTSTART;VALUE=DATE:20211001
DTEND;VALUE=DATE:20211015
DTSTAMP:20260425T155055
CREATED:20200622T060049Z
LAST-MODIFIED:20210518T224028Z
UID:1488-1633046400-1634255999@b2x.startupsymposium.com
SUMMARY:Judges and Investors Review and Score All Applications; Workshops and Webinars Run Throughout
DESCRIPTION:ALL TIMES ARE PST. \nJudges and Investors Review and Score All Applications – Judges and investors review and score all applications. After review and scoring\, the top 100 businesses with the highest scores will be chosen to move to round #2.
URL:https://b2x.startupsymposium.com/event/start-of-review-and-scoring/
CATEGORIES:Event Timeline
ATTACH;FMTTYPE=image/jpeg:https://b2x.startupsymposium.com/wp-content/uploads/2020/06/Pismo-Ventures-National-Venture-Plan-Competition-6.jpg
END:VEVENT
BEGIN:VEVENT
DTSTART;VALUE=DATE:20211001
DTEND;VALUE=DATE:20211002
DTSTAMP:20260425T155055
CREATED:20200622T043323Z
LAST-MODIFIED:20210518T223651Z
UID:1441-1633046400-1633132799@b2x.startupsymposium.com
SUMMARY:Kickoff Day and Round 1
DESCRIPTION:ALL TIMES ARE PST. \nKickoff Day\, Competition Begins\, Start of Round #1. The competition begins. This day kicks off the competition. No further updates to plan\, deck or video will be accepted. Round #1 begins to select the top 100 applicants with the highest scores.
URL:https://b2x.startupsymposium.com/event/kickoffdayround1/
CATEGORIES:Event Timeline
ATTACH;FMTTYPE=image/jpeg:https://b2x.startupsymposium.com/wp-content/uploads/2020/06/Pismo-Ventures-National-Venture-Plan-Competition-3.jpg
END:VEVENT
BEGIN:VEVENT
DTSTART;VALUE=DATE:20210930
DTEND;VALUE=DATE:20211001
DTSTAMP:20260425T155055
CREATED:20200622T053841Z
LAST-MODIFIED:20210518T223538Z
UID:1435-1632960000-1633046399@b2x.startupsymposium.com
SUMMARY:Registration Ends
DESCRIPTION:All Registrations End.
URL:https://b2x.startupsymposium.com/event/registrations-end/
CATEGORIES:Event Timeline
ATTACH;FMTTYPE=image/jpeg:https://b2x.startupsymposium.com/wp-content/uploads/2020/06/Pismo-Ventures-National-Venture-Plan-Competition-4.jpg
END:VEVENT
BEGIN:VEVENT
DTSTART;TZID=America/Los_Angeles:20201117T235900
DTEND;TZID=America/Los_Angeles:20201117T235900
DTSTAMP:20260425T155055
CREATED:20200622T070703Z
LAST-MODIFIED:20200809T235650Z
UID:1538-1605657540-1605657540@b2x.startupsymposium.com
SUMMARY:Round 3 Ends
DESCRIPTION:ALL TIMES ARE PST. \nEnd of review and scoring of the top 10 applications – Judges and investors will complete the review and scoring of the top 10 applications. After review and scoring\, the competition winner with the highest scores will be chosen.
URL:https://b2x.startupsymposium.com/event/round-3-ends/
CATEGORIES:Event Timeline
ATTACH;FMTTYPE=image/jpeg:https://b2x.startupsymposium.com/wp-content/uploads/2020/06/Pismo-Ventures-National-Venture-Plan-Competition-15.jpg
END:VEVENT
BEGIN:VEVENT
DTSTART;TZID=America/Los_Angeles:20201108T235900
DTEND;TZID=America/Los_Angeles:20201108T235900
DTSTAMP:20260425T155055
CREATED:20200622T065153Z
LAST-MODIFIED:20200810T000508Z
UID:1525-1604879940-1604879940@b2x.startupsymposium.com
SUMMARY:Deadline Round #3 Qualifier Updates
DESCRIPTION:ALL TIMES ARE PST. \nDeadline for round #3 qualifier to update Plan\, Deck and Video – Last date to update plan\, deck and video for the top 10 qualifying businesses who made it to round #3. Email updates to appudate@pismoventures.net. No late submissions will be accepted.
URL:https://b2x.startupsymposium.com/event/deadline-round-3-qualifier-updates/
CATEGORIES:Event Timeline
ATTACH;FMTTYPE=image/jpeg:https://b2x.startupsymposium.com/wp-content/uploads/2020/06/Pismo-Ventures-National-Venture-Plan-Competition-13.jpg
END:VEVENT
BEGIN:VEVENT
DTSTART;TZID=America/Los_Angeles:20201030T235900
DTEND;TZID=America/Los_Angeles:20201030T235900
DTSTAMP:20260425T155055
CREATED:20200622T063302Z
LAST-MODIFIED:20200810T001025Z
UID:1515-1604102340-1604102340@b2x.startupsymposium.com
SUMMARY:Round 2 Ends
DESCRIPTION:ALL TIMES ARE PST. \nJudges and investors to complete review and scoring of the top 100 applications. After review and scoring\, the top 10 businesses with the highest scores will be chosen to move to round #3.
URL:https://b2x.startupsymposium.com/event/round-2-ends/
CATEGORIES:Event Timeline
ATTACH;FMTTYPE=image/jpeg:https://b2x.startupsymposium.com/wp-content/uploads/2020/06/Pismo-Ventures-National-Venture-Plan-Competition-11.jpg
END:VEVENT
BEGIN:VEVENT
DTSTART;TZID=America/Los_Angeles:20201005T000000
DTEND;TZID=America/Los_Angeles:20201005T000000
DTSTAMP:20260425T155055
CREATED:20200622T061456Z
LAST-MODIFIED:20200810T003610Z
UID:1496-1601856000-1601856000@b2x.startupsymposium.com
SUMMARY:Plan Deck and Video Updates
DESCRIPTION:ALL TIMES ARE PST. \nTop 100 competitors are able to work on and update their Plan\, Deck and Video – The top 100 competitors with highest scores now have a second chance to work on and update their plan\, deck and video. Email updates to appupdate@pismoventures.net
URL:https://b2x.startupsymposium.com/event/plan-deck-and-video-updates/
CATEGORIES:Event Timeline
ATTACH;FMTTYPE=image/jpeg:https://b2x.startupsymposium.com/wp-content/uploads/2020/06/Pismo-Ventures-National-Venture-Plan-Competition-9.jpg
END:VEVENT
BEGIN:VEVENT
DTSTART;TZID=America/Los_Angeles:20201004T235900
DTEND;TZID=America/Los_Angeles:20201004T235900
DTSTAMP:20260425T155055
CREATED:20200622T060634Z
LAST-MODIFIED:20200810T003631Z
UID:1492-1601855940-1601855940@b2x.startupsymposium.com
SUMMARY:End Review and Scoring
DESCRIPTION:ALL TIMES ARE PST. \nDeadline for judges and investors reviewing and scoring all applications. After review and scoring\, the top 100 businesses with the highest scores will be chosen to move to round #2.
URL:https://b2x.startupsymposium.com/event/end-review-and-scoring/
CATEGORIES:Event Timeline
ATTACH;FMTTYPE=image/jpeg:https://b2x.startupsymposium.com/wp-content/uploads/2020/06/Pismo-Ventures-National-Venture-Plan-Competition-7.jpg
END:VEVENT
BEGIN:VEVENT
DTSTART;TZID=America/Los_Angeles:20200927T235900
DTEND;TZID=America/Los_Angeles:20200927T235900
DTSTAMP:20260425T155055
CREATED:20200622T054325Z
LAST-MODIFIED:20200904T190728Z
UID:1437-1601251140-1601251140@b2x.startupsymposium.com
SUMMARY:Deadline to Update Materials
DESCRIPTION:ALL TIMES ARE PST. \nThis is the last day for competition applicants to be able to email an update to their plan\, deck or video if they so desire. Email updates to appupdate@pismoventures.net.
URL:https://b2x.startupsymposium.com/event/deadline-to-update-material/
CATEGORIES:Event Timeline
ATTACH;FMTTYPE=image/jpeg:https://b2x.startupsymposium.com/wp-content/uploads/2020/06/Pismo-Ventures-National-Venture-Plan-Competition-5.jpg
END:VEVENT
BEGIN:VEVENT
DTSTART;TZID=America/Los_Angeles:20200807T000000
DTEND;TZID=America/Los_Angeles:20200807T000000
DTSTAMP:20260425T155055
CREATED:20200622T052156Z
LAST-MODIFIED:20200810T005349Z
UID:1433-1596758400-1596758400@b2x.startupsymposium.com
SUMMARY:Regular Registration Opens
DESCRIPTION:ALL TIMES ARE PST. \nApplications continue to be accepted at the regular registration price. Also\, general admission registrations continue to be accepted at the normal registration price.
URL:https://b2x.startupsymposium.com/event/regular-registration/
CATEGORIES:Event Timeline
ATTACH;FMTTYPE=image/jpeg:https://b2x.startupsymposium.com/wp-content/uploads/2020/06/Pismo-Ventures-National-Venture-Plan-Competition-2.jpg
END:VEVENT
END:VCALENDAR