BEGIN:VCALENDAR
VERSION:2.0
PRODID:-//B2X Startup Symposium - ECPv6.15.20//NONSGML v1.0//EN
CALSCALE:GREGORIAN
METHOD:PUBLISH
X-WR-CALNAME:B2X Startup Symposium
X-ORIGINAL-URL:https://b2x.startupsymposium.com
X-WR-CALDESC:Events for B2X Startup Symposium
REFRESH-INTERVAL;VALUE=DURATION:PT1H
X-Robots-Tag:noindex
X-PUBLISHED-TTL:PT1H
BEGIN:VTIMEZONE
TZID:America/Los_Angeles
BEGIN:DAYLIGHT
TZOFFSETFROM:-0800
TZOFFSETTO:-0700
TZNAME:PDT
DTSTART:20190310T100000
END:DAYLIGHT
BEGIN:STANDARD
TZOFFSETFROM:-0700
TZOFFSETTO:-0800
TZNAME:PST
DTSTART:20191103T090000
END:STANDARD
BEGIN:DAYLIGHT
TZOFFSETFROM:-0800
TZOFFSETTO:-0700
TZNAME:PDT
DTSTART:20200308T100000
END:DAYLIGHT
BEGIN:STANDARD
TZOFFSETFROM:-0700
TZOFFSETTO:-0800
TZNAME:PST
DTSTART:20201101T090000
END:STANDARD
BEGIN:DAYLIGHT
TZOFFSETFROM:-0800
TZOFFSETTO:-0700
TZNAME:PDT
DTSTART:20210314T100000
END:DAYLIGHT
BEGIN:STANDARD
TZOFFSETFROM:-0700
TZOFFSETTO:-0800
TZNAME:PST
DTSTART:20211107T090000
END:STANDARD
END:VTIMEZONE
BEGIN:VEVENT
DTSTART;TZID=America/Los_Angeles:20200922T090000
DTEND;TZID=America/Los_Angeles:20200922T110000
DTSTAMP:20260425T190903
CREATED:20200802T221841Z
LAST-MODIFIED:20200913T031705Z
UID:2939-1600765200-1600772400@b2x.startupsymposium.com
SUMMARY:What makes a winning pitch at a business plan competition?
DESCRIPTION:What makes for a winning bus plan competition?How do you differentiate between the bus plan and the pitch?How do you get each of them right?What are the secret ingredients to creating the winning ones?Pitfalls to avoid?Elements that must be included in the plan?How to field questions during Q&A?How married should you be to your financial model?How important is it to size your market and what’s the right way to do it? \nThis is the event link. It ONLY works for registrants.https://us02web.zoom.us/webinar/register/WN_xjzMrwQZRsGMPbp4p_3jNw
URL:https://b2x.startupsymposium.com/event/what-makes-a-winning-pitch-at-a-bus-plan-competition/
CATEGORIES:Webinars and Workshops
ATTACH;FMTTYPE=image/jpeg:https://b2x.startupsymposium.com/wp-content/uploads/2020/08/pexels-pixabay-277124.jpg
END:VEVENT
END:VCALENDAR