BEGIN:VCALENDAR
VERSION:2.0
PRODID:-//B2X Startup Symposium - ECPv6.15.20//NONSGML v1.0//EN
CALSCALE:GREGORIAN
METHOD:PUBLISH
X-WR-CALNAME:B2X Startup Symposium
X-ORIGINAL-URL:https://b2x.startupsymposium.com
X-WR-CALDESC:Events for B2X Startup Symposium
REFRESH-INTERVAL;VALUE=DURATION:PT1H
X-Robots-Tag:noindex
X-PUBLISHED-TTL:PT1H
BEGIN:VTIMEZONE
TZID:America/Los_Angeles
BEGIN:DAYLIGHT
TZOFFSETFROM:-0800
TZOFFSETTO:-0700
TZNAME:PDT
DTSTART:20220313T100000
END:DAYLIGHT
BEGIN:STANDARD
TZOFFSETFROM:-0700
TZOFFSETTO:-0800
TZNAME:PST
DTSTART:20221106T090000
END:STANDARD
BEGIN:DAYLIGHT
TZOFFSETFROM:-0800
TZOFFSETTO:-0700
TZNAME:PDT
DTSTART:20230312T100000
END:DAYLIGHT
BEGIN:STANDARD
TZOFFSETFROM:-0700
TZOFFSETTO:-0800
TZNAME:PST
DTSTART:20231105T090000
END:STANDARD
BEGIN:DAYLIGHT
TZOFFSETFROM:-0800
TZOFFSETTO:-0700
TZNAME:PDT
DTSTART:20240310T100000
END:DAYLIGHT
BEGIN:STANDARD
TZOFFSETFROM:-0700
TZOFFSETTO:-0800
TZNAME:PST
DTSTART:20241103T090000
END:STANDARD
END:VTIMEZONE
BEGIN:VEVENT
DTSTART;TZID=America/Los_Angeles:20231114T120000
DTEND;TZID=America/Los_Angeles:20231114T130000
DTSTAMP:20260425T140626
CREATED:20200622T063816Z
LAST-MODIFIED:20231031T223208Z
UID:1520-1699963200-1699966800@b2x.startupsymposium.com
SUMMARY:Top Legal Mistakes that can Kill a Startup
DESCRIPTION:ALL TIMES ARE PST. \nTop Legal Mistakes that can Kill a Startup \nVeteran corporate attorney Ken August will discuss some of the legal issues which can be traps for the unwary\, and which can end up killing a startup company by rendering it very difficult or impossible to take in capital investment\, or which can create similar problems in the future. He will also provide some helpful tips for how to avoid these kinds of mistakes. \n\n\n\n\n\n\n\n\n\n\nEvent Link – It ONLY works for Eventbrite Registrants: https://l.pismoventures.com/B2XSS23-Webinar2
URL:https://b2x.startupsymposium.com/event/top-legal-mistakes-that-can-kill-a-startup/
CATEGORIES:Webinars and Workshops
ATTACH;FMTTYPE=image/png:https://b2x.startupsymposium.com/wp-content/uploads/2023/10/AugustLawGroupLogo.png
END:VEVENT
END:VCALENDAR