BEGIN:VCALENDAR
VERSION:2.0
PRODID:-//B2X Startup Symposium - ECPv6.15.20//NONSGML v1.0//EN
CALSCALE:GREGORIAN
METHOD:PUBLISH
X-WR-CALNAME:B2X Startup Symposium
X-ORIGINAL-URL:https://b2x.startupsymposium.com
X-WR-CALDESC:Events for B2X Startup Symposium
REFRESH-INTERVAL;VALUE=DURATION:PT1H
X-Robots-Tag:noindex
X-PUBLISHED-TTL:PT1H
BEGIN:VTIMEZONE
TZID:America/Los_Angeles
BEGIN:DAYLIGHT
TZOFFSETFROM:-0800
TZOFFSETTO:-0700
TZNAME:PDT
DTSTART:20190310T100000
END:DAYLIGHT
BEGIN:STANDARD
TZOFFSETFROM:-0700
TZOFFSETTO:-0800
TZNAME:PST
DTSTART:20191103T090000
END:STANDARD
BEGIN:DAYLIGHT
TZOFFSETFROM:-0800
TZOFFSETTO:-0700
TZNAME:PDT
DTSTART:20200308T100000
END:DAYLIGHT
BEGIN:STANDARD
TZOFFSETFROM:-0700
TZOFFSETTO:-0800
TZNAME:PST
DTSTART:20201101T090000
END:STANDARD
BEGIN:DAYLIGHT
TZOFFSETFROM:-0800
TZOFFSETTO:-0700
TZNAME:PDT
DTSTART:20210314T100000
END:DAYLIGHT
BEGIN:STANDARD
TZOFFSETFROM:-0700
TZOFFSETTO:-0800
TZNAME:PST
DTSTART:20211107T090000
END:STANDARD
END:VTIMEZONE
BEGIN:VEVENT
DTSTART;TZID=America/Los_Angeles:20200924T090000
DTEND;TZID=America/Los_Angeles:20200924T110000
DTSTAMP:20260425T184623
CREATED:20200722T141607Z
LAST-MODIFIED:20200913T033801Z
UID:2656-1600938000-1600945200@b2x.startupsymposium.com
SUMMARY:The Name of the Game is the Claim
DESCRIPTION:Startups have many questions when it comes to patents: “Is my invention patentable?\,” “What does my patent cover?\,” and “How can we design around my competitor’s patent?” The answers to these and other questions are determined by the claims of the patent\, which are found on the last pages of every U.S. patent. This presentation will discuss key aspects of interpreting patent claims in the U.S for taking a first pass at answering these questions. \nThis is the event link. It ONLY works for registrants.https://us02web.zoom.us/webinar/register/WN_18CAwuxrQA2DpA0BIYyryg
URL:https://b2x.startupsymposium.com/event/the-name-of-the-game-is-the-claim/
CATEGORIES:Webinars and Workshops
ATTACH;FMTTYPE=image/jpeg:https://b2x.startupsymposium.com/wp-content/uploads/2020/07/KMLogoSQ.jpg
END:VEVENT
END:VCALENDAR