BEGIN:VCALENDAR
VERSION:2.0
PRODID:-//B2X Startup Symposium - ECPv6.15.20//NONSGML v1.0//EN
CALSCALE:GREGORIAN
METHOD:PUBLISH
X-WR-CALNAME:B2X Startup Symposium
X-ORIGINAL-URL:https://b2x.startupsymposium.com
X-WR-CALDESC:Events for B2X Startup Symposium
REFRESH-INTERVAL;VALUE=DURATION:PT1H
X-Robots-Tag:noindex
X-PUBLISHED-TTL:PT1H
BEGIN:VTIMEZONE
TZID:America/Los_Angeles
BEGIN:DAYLIGHT
TZOFFSETFROM:-0800
TZOFFSETTO:-0700
TZNAME:PDT
DTSTART:20190310T100000
END:DAYLIGHT
BEGIN:STANDARD
TZOFFSETFROM:-0700
TZOFFSETTO:-0800
TZNAME:PST
DTSTART:20191103T090000
END:STANDARD
BEGIN:DAYLIGHT
TZOFFSETFROM:-0800
TZOFFSETTO:-0700
TZNAME:PDT
DTSTART:20200308T100000
END:DAYLIGHT
BEGIN:STANDARD
TZOFFSETFROM:-0700
TZOFFSETTO:-0800
TZNAME:PST
DTSTART:20201101T090000
END:STANDARD
BEGIN:DAYLIGHT
TZOFFSETFROM:-0800
TZOFFSETTO:-0700
TZNAME:PDT
DTSTART:20210314T100000
END:DAYLIGHT
BEGIN:STANDARD
TZOFFSETFROM:-0700
TZOFFSETTO:-0800
TZNAME:PST
DTSTART:20211107T090000
END:STANDARD
END:VTIMEZONE
BEGIN:VEVENT
DTSTART;TZID=America/Los_Angeles:20201113T090000
DTEND;TZID=America/Los_Angeles:20201113T110000
DTSTAMP:20260425T183947
CREATED:20200805T203253Z
LAST-MODIFIED:20201014T112124Z
UID:2999-1605258000-1605265200@b2x.startupsymposium.com
SUMMARY:The Ins and Outs of a Preferred Stock Term Sheet – What Every Entrepreneur Needs to Know When Negotiating a Preferred Stock Financing
DESCRIPTION:You have reached a milestone and have a Preferred Stock Term Sheet on your desk\, what do you do next? In this webinar we will cover what every Entrepreneur needs to know when negotiating a Preferred Stock Financing. Make your financing work for you. \nThis is the event link. It ONLY works for registrants.https://us02web.zoom.us/webinar/register/WN_z43JRO6IScOKhnd74-OYZg
URL:https://b2x.startupsymposium.com/event/the-ins-and-outs-of-a-preferred-stock-term-sheet-what-every-entrepreneur-needs-to-know-when-negotiating-a-preferred-stock-financing/
CATEGORIES:Webinars and Workshops
ATTACH;FMTTYPE=image/jpeg:https://b2x.startupsymposium.com/wp-content/uploads/2020/08/Stradling300.jpg
END:VEVENT
END:VCALENDAR