BEGIN:VCALENDAR
VERSION:2.0
PRODID:-//B2X Startup Symposium - ECPv6.15.20//NONSGML v1.0//EN
CALSCALE:GREGORIAN
METHOD:PUBLISH
X-WR-CALNAME:B2X Startup Symposium
X-ORIGINAL-URL:https://b2x.startupsymposium.com
X-WR-CALDESC:Events for B2X Startup Symposium
REFRESH-INTERVAL;VALUE=DURATION:PT1H
X-Robots-Tag:noindex
X-PUBLISHED-TTL:PT1H
BEGIN:VTIMEZONE
TZID:America/Los_Angeles
BEGIN:DAYLIGHT
TZOFFSETFROM:-0800
TZOFFSETTO:-0700
TZNAME:PDT
DTSTART:20190310T100000
END:DAYLIGHT
BEGIN:STANDARD
TZOFFSETFROM:-0700
TZOFFSETTO:-0800
TZNAME:PST
DTSTART:20191103T090000
END:STANDARD
BEGIN:DAYLIGHT
TZOFFSETFROM:-0800
TZOFFSETTO:-0700
TZNAME:PDT
DTSTART:20200308T100000
END:DAYLIGHT
BEGIN:STANDARD
TZOFFSETFROM:-0700
TZOFFSETTO:-0800
TZNAME:PST
DTSTART:20201101T090000
END:STANDARD
BEGIN:DAYLIGHT
TZOFFSETFROM:-0800
TZOFFSETTO:-0700
TZNAME:PDT
DTSTART:20210314T100000
END:DAYLIGHT
BEGIN:STANDARD
TZOFFSETFROM:-0700
TZOFFSETTO:-0800
TZNAME:PST
DTSTART:20211107T090000
END:STANDARD
END:VTIMEZONE
BEGIN:VEVENT
DTSTART;TZID=America/Los_Angeles:20200925T090000
DTEND;TZID=America/Los_Angeles:20200925T110000
DTSTAMP:20260425T190632
CREATED:20200621T004638Z
LAST-MODIFIED:20200913T034040Z
UID:1175-1601024400-1601031600@b2x.startupsymposium.com
SUMMARY:The Fundable Startup
DESCRIPTION:Fred brings his venture capital background and experience with hundreds of high-tech startup companies to a discussion about what it takes to get a startup funded.  Startups must compete with other startups for the precious capital they need.  This requires careful planning and strategies that will help a startup attract capital instead of having to chase it.\n \nIf you are the founder of a high-tech startup company\, you know it’s a daunting task\, and the odds of success are slim. All founders dream of achieving a rewarding outcome like Steve Jobs or Bill Gates\, but few reach such a pinnacle. In The Fundable Startup: How Disruptive Companies Attract Capital\, Fred M. Haney\, an experienced venture capitalist\, angel investor\, and company founder\, explains startup strategies that will help you: Understand the thinking of investors Build a “virtual team” Create initial value in a product or prototype Recruit management that will help you raise capital The Fundable Startup contains eight personal interviews with executives and entrepreneurs that will change the way founders think about managing a startup company. Understand the thinking of investors Build a “virtual team” Create initial value in a product or prototype Recruit management that will help you raise capital The Fundable Startup contains eight personal interviews with executives and entrepreneurs that will change the way founders think about managing a startup company.\n\n \nThis is the event link. It ONLY works for registrants.https://us02web.zoom.us/webinar/register/WN_nW4ekG9TSAumXRflUFsmYw
URL:https://b2x.startupsymposium.com/event/the-fundable-startup/
CATEGORIES:Webinars and Workshops
ATTACH;FMTTYPE=image/jpeg:https://b2x.startupsymposium.com/wp-content/uploads/2020/06/TheFundableStartup_400x400.jpg
END:VEVENT
END:VCALENDAR