BEGIN:VCALENDAR
VERSION:2.0
PRODID:-//B2X Startup Symposium - ECPv6.15.20//NONSGML v1.0//EN
CALSCALE:GREGORIAN
METHOD:PUBLISH
X-WR-CALNAME:B2X Startup Symposium
X-ORIGINAL-URL:https://b2x.startupsymposium.com
X-WR-CALDESC:Events for B2X Startup Symposium
REFRESH-INTERVAL;VALUE=DURATION:PT1H
X-Robots-Tag:noindex
X-PUBLISHED-TTL:PT1H
BEGIN:VTIMEZONE
TZID:America/Los_Angeles
BEGIN:DAYLIGHT
TZOFFSETFROM:-0800
TZOFFSETTO:-0700
TZNAME:PDT
DTSTART:20190310T100000
END:DAYLIGHT
BEGIN:STANDARD
TZOFFSETFROM:-0700
TZOFFSETTO:-0800
TZNAME:PST
DTSTART:20191103T090000
END:STANDARD
BEGIN:DAYLIGHT
TZOFFSETFROM:-0800
TZOFFSETTO:-0700
TZNAME:PDT
DTSTART:20200308T100000
END:DAYLIGHT
BEGIN:STANDARD
TZOFFSETFROM:-0700
TZOFFSETTO:-0800
TZNAME:PST
DTSTART:20201101T090000
END:STANDARD
BEGIN:DAYLIGHT
TZOFFSETFROM:-0800
TZOFFSETTO:-0700
TZNAME:PDT
DTSTART:20210314T100000
END:DAYLIGHT
BEGIN:STANDARD
TZOFFSETFROM:-0700
TZOFFSETTO:-0800
TZNAME:PST
DTSTART:20211107T090000
END:STANDARD
END:VTIMEZONE
BEGIN:VEVENT
DTSTART;TZID=America/Los_Angeles:20201001T090000
DTEND;TZID=America/Los_Angeles:20201001T110000
DTSTAMP:20260425T185504
CREATED:20200722T142548Z
LAST-MODIFIED:20200913T034949Z
UID:2662-1601542800-1601550000@b2x.startupsymposium.com
SUMMARY:Start Up Your Intellectual Property A Roadmap to IP Protection for Startups
DESCRIPTION:Learn about the essential steps that startups should take to maximize their IP protection and factors to consider in developing an effective IP strategy. \nThis is the event link. It ONLY works for registrants.https://us02web.zoom.us/webinar/register/WN_yujNWLz2RKKcozYcO_nPKA
URL:https://b2x.startupsymposium.com/event/start-up-your-intellectual-property-a-roadmap-to-ip-protection-for-startups/
CATEGORIES:Webinars and Workshops
ATTACH;FMTTYPE=image/jpeg:https://b2x.startupsymposium.com/wp-content/uploads/2020/07/KMLogoSQ.jpg
END:VEVENT
END:VCALENDAR