BEGIN:VCALENDAR
VERSION:2.0
PRODID:-//B2X Startup Symposium - ECPv6.15.20//NONSGML v1.0//EN
CALSCALE:GREGORIAN
METHOD:PUBLISH
X-WR-CALNAME:B2X Startup Symposium
X-ORIGINAL-URL:https://b2x.startupsymposium.com
X-WR-CALDESC:Events for B2X Startup Symposium
REFRESH-INTERVAL;VALUE=DURATION:PT1H
X-Robots-Tag:noindex
X-PUBLISHED-TTL:PT1H
BEGIN:VTIMEZONE
TZID:America/Los_Angeles
BEGIN:DAYLIGHT
TZOFFSETFROM:-0800
TZOFFSETTO:-0700
TZNAME:PDT
DTSTART:20190310T100000
END:DAYLIGHT
BEGIN:STANDARD
TZOFFSETFROM:-0700
TZOFFSETTO:-0800
TZNAME:PST
DTSTART:20191103T090000
END:STANDARD
BEGIN:DAYLIGHT
TZOFFSETFROM:-0800
TZOFFSETTO:-0700
TZNAME:PDT
DTSTART:20200308T100000
END:DAYLIGHT
BEGIN:STANDARD
TZOFFSETFROM:-0700
TZOFFSETTO:-0800
TZNAME:PST
DTSTART:20201101T090000
END:STANDARD
BEGIN:DAYLIGHT
TZOFFSETFROM:-0800
TZOFFSETTO:-0700
TZNAME:PDT
DTSTART:20210314T100000
END:DAYLIGHT
BEGIN:STANDARD
TZOFFSETFROM:-0700
TZOFFSETTO:-0800
TZNAME:PST
DTSTART:20211107T090000
END:STANDARD
END:VTIMEZONE
BEGIN:VEVENT
DTSTART;TZID=America/Los_Angeles:20201106T090000
DTEND;TZID=America/Los_Angeles:20201106T110000
DTSTAMP:20260425T170019
CREATED:20200728T180558Z
LAST-MODIFIED:20201011T223818Z
UID:2833-1604653200-1604660400@b2x.startupsymposium.com
SUMMARY:Sales Strategies for Start-Up's
DESCRIPTION:Sales drives revenue in every business. You will learn the basics on how to create a winning sales strategy and establish standardized sales processes. \nWe will teach you how to take your business from the owner as Chief Sales Person\, to building and scaling a sales team that drives sustainable\, and profitable\, revenue growth. \nThis is the event link. It ONLY works for registrants.https://us02web.zoom.us/webinar/register/WN_QlhyAuIaQYud296RXJA8Ew
URL:https://b2x.startupsymposium.com/event/sales-strategies-for-start-ups/
CATEGORIES:Webinars and Workshops
ATTACH;FMTTYPE=image/jpeg:https://b2x.startupsymposium.com/wp-content/uploads/2020/07/Sales600.jpg
END:VEVENT
END:VCALENDAR