BEGIN:VCALENDAR
VERSION:2.0
PRODID:-//B2X Startup Symposium - ECPv6.15.20//NONSGML v1.0//EN
CALSCALE:GREGORIAN
METHOD:PUBLISH
X-WR-CALNAME:B2X Startup Symposium
X-ORIGINAL-URL:https://b2x.startupsymposium.com
X-WR-CALDESC:Events for B2X Startup Symposium
REFRESH-INTERVAL;VALUE=DURATION:PT1H
X-Robots-Tag:noindex
X-PUBLISHED-TTL:PT1H
BEGIN:VTIMEZONE
TZID:America/Los_Angeles
BEGIN:DAYLIGHT
TZOFFSETFROM:-0800
TZOFFSETTO:-0700
TZNAME:PDT
DTSTART:20200308T100000
END:DAYLIGHT
BEGIN:STANDARD
TZOFFSETFROM:-0700
TZOFFSETTO:-0800
TZNAME:PST
DTSTART:20201101T090000
END:STANDARD
BEGIN:DAYLIGHT
TZOFFSETFROM:-0800
TZOFFSETTO:-0700
TZNAME:PDT
DTSTART:20210314T100000
END:DAYLIGHT
BEGIN:STANDARD
TZOFFSETFROM:-0700
TZOFFSETTO:-0800
TZNAME:PST
DTSTART:20211107T090000
END:STANDARD
BEGIN:DAYLIGHT
TZOFFSETFROM:-0800
TZOFFSETTO:-0700
TZNAME:PDT
DTSTART:20220313T100000
END:DAYLIGHT
BEGIN:STANDARD
TZOFFSETFROM:-0700
TZOFFSETTO:-0800
TZNAME:PST
DTSTART:20221106T090000
END:STANDARD
END:VTIMEZONE
BEGIN:VEVENT
DTSTART;VALUE=DATE:20210930
DTEND;VALUE=DATE:20211001
DTSTAMP:20260425T172554
CREATED:20200622T053841Z
LAST-MODIFIED:20210518T223538Z
UID:1435-1632960000-1633046399@b2x.startupsymposium.com
SUMMARY:Registration Ends
DESCRIPTION:All Registrations End.
URL:https://b2x.startupsymposium.com/event/registrations-end/
CATEGORIES:Event Timeline
ATTACH;FMTTYPE=image/jpeg:https://b2x.startupsymposium.com/wp-content/uploads/2020/06/Pismo-Ventures-National-Venture-Plan-Competition-4.jpg
END:VEVENT
END:VCALENDAR