BEGIN:VCALENDAR
VERSION:2.0
PRODID:-//B2X Startup Symposium - ECPv6.15.20//NONSGML v1.0//EN
CALSCALE:GREGORIAN
METHOD:PUBLISH
X-WR-CALNAME:B2X Startup Symposium
X-ORIGINAL-URL:https://b2x.startupsymposium.com
X-WR-CALDESC:Events for B2X Startup Symposium
REFRESH-INTERVAL;VALUE=DURATION:PT1H
X-Robots-Tag:noindex
X-PUBLISHED-TTL:PT1H
BEGIN:VTIMEZONE
TZID:America/Los_Angeles
BEGIN:DAYLIGHT
TZOFFSETFROM:-0800
TZOFFSETTO:-0700
TZNAME:PDT
DTSTART:20220313T100000
END:DAYLIGHT
BEGIN:STANDARD
TZOFFSETFROM:-0700
TZOFFSETTO:-0800
TZNAME:PST
DTSTART:20221106T090000
END:STANDARD
BEGIN:DAYLIGHT
TZOFFSETFROM:-0800
TZOFFSETTO:-0700
TZNAME:PDT
DTSTART:20230312T100000
END:DAYLIGHT
BEGIN:STANDARD
TZOFFSETFROM:-0700
TZOFFSETTO:-0800
TZNAME:PST
DTSTART:20231105T090000
END:STANDARD
BEGIN:DAYLIGHT
TZOFFSETFROM:-0800
TZOFFSETTO:-0700
TZNAME:PDT
DTSTART:20240310T100000
END:DAYLIGHT
BEGIN:STANDARD
TZOFFSETFROM:-0700
TZOFFSETTO:-0800
TZNAME:PST
DTSTART:20241103T090000
END:STANDARD
END:VTIMEZONE
BEGIN:VEVENT
DTSTART;TZID=America/Los_Angeles:20231114T103000
DTEND;TZID=America/Los_Angeles:20231114T113000
DTSTAMP:20260425T134308
CREATED:20220220T210551Z
LAST-MODIFIED:20231103T013051Z
UID:4352-1699957800-1699961400@b2x.startupsymposium.com
SUMMARY:Becoming an Investable Startup - Positioning Your Startup for Success
DESCRIPTION:One of the existential challenges for a startup is how to reduce the time to translate a promising idea from the laboratory to the marketplace. Join our panel of leading experts for their discussions on the best practices for the transformation of invention to impact. Topics of this panel discussion include industrial discovery and strategies of commercialization focusing on market need. \nModerator: Quan Nguyen\, Managing Partner at NTIP Patent Law Firm \nExpert Panelists: \n\nCharlie Lewis is Sr. Vice President Venture Development at Skysong Innovations\nDoug Sylvester is General Partner & Managing Director at Xcellerant Ventures\nElsa Abruzzo is Angel Investor and CEO & President of Anuncia Inc\nVivek Kopparthi is CEO at NeoLight\n\nEvent Link – It ONLY works for Eventbrite Registrants: https://l.pismoventures.com/B2XSS23-ExpertPanel1
URL:https://b2x.startupsymposium.com/event/positioning-your-startups-for-success/
CATEGORIES:Expert Panel
ATTACH;FMTTYPE=image/jpeg:https://b2x.startupsymposium.com/wp-content/uploads/2022/02/Idea-to-Launch-small.jpg
END:VEVENT
END:VCALENDAR