BEGIN:VCALENDAR
VERSION:2.0
PRODID:-//B2X Startup Symposium - ECPv6.15.20//NONSGML v1.0//EN
CALSCALE:GREGORIAN
METHOD:PUBLISH
X-WR-CALNAME:B2X Startup Symposium
X-ORIGINAL-URL:https://b2x.startupsymposium.com
X-WR-CALDESC:Events for B2X Startup Symposium
REFRESH-INTERVAL;VALUE=DURATION:PT1H
X-Robots-Tag:noindex
X-PUBLISHED-TTL:PT1H
BEGIN:VTIMEZONE
TZID:America/Los_Angeles
BEGIN:DAYLIGHT
TZOFFSETFROM:-0800
TZOFFSETTO:-0700
TZNAME:PDT
DTSTART:20200308T100000
END:DAYLIGHT
BEGIN:STANDARD
TZOFFSETFROM:-0700
TZOFFSETTO:-0800
TZNAME:PST
DTSTART:20201101T090000
END:STANDARD
BEGIN:DAYLIGHT
TZOFFSETFROM:-0800
TZOFFSETTO:-0700
TZNAME:PDT
DTSTART:20210314T100000
END:DAYLIGHT
BEGIN:STANDARD
TZOFFSETFROM:-0700
TZOFFSETTO:-0800
TZNAME:PST
DTSTART:20211107T090000
END:STANDARD
BEGIN:DAYLIGHT
TZOFFSETFROM:-0800
TZOFFSETTO:-0700
TZNAME:PDT
DTSTART:20220313T100000
END:DAYLIGHT
BEGIN:STANDARD
TZOFFSETFROM:-0700
TZOFFSETTO:-0800
TZNAME:PST
DTSTART:20221106T090000
END:STANDARD
END:VTIMEZONE
BEGIN:VEVENT
DTSTART;TZID=America/Los_Angeles:20211027T090000
DTEND;TZID=America/Los_Angeles:20211027T103000
DTSTAMP:20260425T140505
CREATED:20210905T191224Z
LAST-MODIFIED:20210905T191420Z
UID:3962-1635325200-1635330600@b2x.startupsymposium.com
SUMMARY:Perform your own IP diligence
DESCRIPTION:How to get your IP in order before raising money\, including confirming employment/contractor agreements\, NDAs\, ownership\, identification of trade secrets\, filing patent and trademark applications\, and overall timing. \nEvent Link – It ONLY works for Eventbrite Registrants: \nhttps://us02web.zoom.us/j/86361310778?pwd=SU1iMU0xMFp0ajFWM2d3OEFtZU9MZz09
URL:https://b2x.startupsymposium.com/event/perform-your-own-ip-diligence/
CATEGORIES:Webinars and Workshops
ATTACH;FMTTYPE=image/jpeg:https://b2x.startupsymposium.com/wp-content/uploads/2020/08/Buchalter_New_Logo_Blue-600x600-1.jpg
END:VEVENT
END:VCALENDAR