BEGIN:VCALENDAR
VERSION:2.0
PRODID:-//B2X Startup Symposium - ECPv6.15.20//NONSGML v1.0//EN
CALSCALE:GREGORIAN
METHOD:PUBLISH
X-WR-CALNAME:B2X Startup Symposium
X-ORIGINAL-URL:https://b2x.startupsymposium.com
X-WR-CALDESC:Events for B2X Startup Symposium
REFRESH-INTERVAL;VALUE=DURATION:PT1H
X-Robots-Tag:noindex
X-PUBLISHED-TTL:PT1H
BEGIN:VTIMEZONE
TZID:America/Los_Angeles
BEGIN:DAYLIGHT
TZOFFSETFROM:-0800
TZOFFSETTO:-0700
TZNAME:PDT
DTSTART:20210314T100000
END:DAYLIGHT
BEGIN:STANDARD
TZOFFSETFROM:-0700
TZOFFSETTO:-0800
TZNAME:PST
DTSTART:20211107T090000
END:STANDARD
BEGIN:DAYLIGHT
TZOFFSETFROM:-0800
TZOFFSETTO:-0700
TZNAME:PDT
DTSTART:20220313T100000
END:DAYLIGHT
BEGIN:STANDARD
TZOFFSETFROM:-0700
TZOFFSETTO:-0800
TZNAME:PST
DTSTART:20221106T090000
END:STANDARD
BEGIN:DAYLIGHT
TZOFFSETFROM:-0800
TZOFFSETTO:-0700
TZNAME:PDT
DTSTART:20230312T100000
END:DAYLIGHT
BEGIN:STANDARD
TZOFFSETFROM:-0700
TZOFFSETTO:-0800
TZNAME:PST
DTSTART:20231105T090000
END:STANDARD
END:VTIMEZONE
BEGIN:VEVENT
DTSTART;TZID=America/Los_Angeles:20220329T113000
DTEND;TZID=America/Los_Angeles:20220329T124500
DTSTAMP:20260425T170140
CREATED:20220214T045944Z
LAST-MODIFIED:20220323T052458Z
UID:4337-1648553400-1648557900@b2x.startupsymposium.com
SUMMARY:FDA For Life Science Companies: The Insiders Guide to FDA Approval
DESCRIPTION:Kwame Ulmer is a 12 year veteran of the FDA and currently works as a regulatory strategist and investor. You will learn how to develop a regulatory strategy\, maximize your interactions with the FDA and efficiently get your product approved. The presentation is geared towards helping C-Suite executives understand the key levers to drive premarket approval and compliance attractive to investors. The presentation will also discuss overcoming the regulatory challenges during COVID. \nEvent Link – It ONLY works for Eventbrite Registrants: \nhttps://us02web.zoom.us/j/83464074974?pwd=Z0Y0aHBEZzVDVXY5WE1KNDVyeUlFZz09
URL:https://b2x.startupsymposium.com/event/fda-for-life-science-companies-the-insiders-guide-to-fda-approval/
CATEGORIES:Webinars and Workshops
ATTACH;FMTTYPE=image/jpeg:https://b2x.startupsymposium.com/wp-content/uploads/2022/02/Kwame-Ulmer.jpg
END:VEVENT
END:VCALENDAR