BEGIN:VCALENDAR
VERSION:2.0
PRODID:-//B2X Startup Symposium - ECPv6.15.20//NONSGML v1.0//EN
CALSCALE:GREGORIAN
METHOD:PUBLISH
X-WR-CALNAME:B2X Startup Symposium
X-ORIGINAL-URL:https://b2x.startupsymposium.com
X-WR-CALDESC:Events for B2X Startup Symposium
REFRESH-INTERVAL;VALUE=DURATION:PT1H
X-Robots-Tag:noindex
X-PUBLISHED-TTL:PT1H
BEGIN:VTIMEZONE
TZID:America/Los_Angeles
BEGIN:DAYLIGHT
TZOFFSETFROM:-0800
TZOFFSETTO:-0700
TZNAME:PDT
DTSTART:20190310T100000
END:DAYLIGHT
BEGIN:STANDARD
TZOFFSETFROM:-0700
TZOFFSETTO:-0800
TZNAME:PST
DTSTART:20191103T090000
END:STANDARD
BEGIN:DAYLIGHT
TZOFFSETFROM:-0800
TZOFFSETTO:-0700
TZNAME:PDT
DTSTART:20200308T100000
END:DAYLIGHT
BEGIN:STANDARD
TZOFFSETFROM:-0700
TZOFFSETTO:-0800
TZNAME:PST
DTSTART:20201101T090000
END:STANDARD
BEGIN:DAYLIGHT
TZOFFSETFROM:-0800
TZOFFSETTO:-0700
TZNAME:PDT
DTSTART:20210314T100000
END:DAYLIGHT
BEGIN:STANDARD
TZOFFSETFROM:-0700
TZOFFSETTO:-0800
TZNAME:PST
DTSTART:20211107T090000
END:STANDARD
END:VTIMEZONE
BEGIN:VEVENT
DTSTART;TZID=America/Los_Angeles:20201023T090000
DTEND;TZID=America/Los_Angeles:20201023T110000
DTSTAMP:20260425T141235
CREATED:20200628T024441Z
LAST-MODIFIED:20200913T041839Z
UID:1757-1603443600-1603450800@b2x.startupsymposium.com
SUMMARY:Developing Superior Boards for your Company
DESCRIPTION:Great boards help to make great companies. Dave Berkus\, who is considered an expert on board service\, has served on over forty boards\, public and private as well as non-profit. His short course covers duties\, liabilities\, payment methods\, and strength gains from use of governance boards. He looks at it from the viewpoint of company leaders\, investors\, and outside board members. He has delivered this course to groups around the world. \nThis is the event link. It ONLY works for registrants.https://us02web.zoom.us/webinar/register/WN_TwOcww6LQrKPDQxn3QYfpQ
URL:https://b2x.startupsymposium.com/event/developing-superior-boards-for-your-company/
CATEGORIES:Webinars and Workshops
ATTACH;FMTTYPE=image/jpeg:https://b2x.startupsymposium.com/wp-content/uploads/2020/06/conf-room-600.jpg
END:VEVENT
END:VCALENDAR