BEGIN:VCALENDAR
VERSION:2.0
PRODID:-//B2X Startup Symposium - ECPv6.15.20//NONSGML v1.0//EN
CALSCALE:GREGORIAN
METHOD:PUBLISH
X-WR-CALNAME:B2X Startup Symposium
X-ORIGINAL-URL:https://b2x.startupsymposium.com
X-WR-CALDESC:Events for B2X Startup Symposium
REFRESH-INTERVAL;VALUE=DURATION:PT1H
X-Robots-Tag:noindex
X-PUBLISHED-TTL:PT1H
BEGIN:VTIMEZONE
TZID:America/Los_Angeles
BEGIN:DAYLIGHT
TZOFFSETFROM:-0800
TZOFFSETTO:-0700
TZNAME:PDT
DTSTART:20200308T100000
END:DAYLIGHT
BEGIN:STANDARD
TZOFFSETFROM:-0700
TZOFFSETTO:-0800
TZNAME:PST
DTSTART:20201101T090000
END:STANDARD
BEGIN:DAYLIGHT
TZOFFSETFROM:-0800
TZOFFSETTO:-0700
TZNAME:PDT
DTSTART:20210314T100000
END:DAYLIGHT
BEGIN:STANDARD
TZOFFSETFROM:-0700
TZOFFSETTO:-0800
TZNAME:PST
DTSTART:20211107T090000
END:STANDARD
BEGIN:DAYLIGHT
TZOFFSETFROM:-0800
TZOFFSETTO:-0700
TZNAME:PDT
DTSTART:20220313T100000
END:DAYLIGHT
BEGIN:STANDARD
TZOFFSETFROM:-0700
TZOFFSETTO:-0800
TZNAME:PST
DTSTART:20221106T090000
END:STANDARD
END:VTIMEZONE
BEGIN:VEVENT
DTSTART;TZID=America/Los_Angeles:20211020T090000
DTEND;TZID=America/Los_Angeles:20211020T103000
DTSTAMP:20260425T141148
CREATED:20210905T203618Z
LAST-MODIFIED:20211016T093538Z
UID:3979-1634720400-1634725800@b2x.startupsymposium.com
SUMMARY:Data privacy compliance and cybersecurity
DESCRIPTION:A Primer on Privacy and Intellectual Property: What You Need to Know At Formation and Before Going to Raise Money– Briefly discuss the types of intellectual property and how you need to protect it before approaching VCs– General Privacy Law considerations to implement and a time line for implementing\, from immediate to where you need to be before closing a price round or other fundraising\, discuss some of the more noteworthy laws and contractual obligations \nEvent Link – It ONLY works for Eventbrite Registrants: \nhttps://us02web.zoom.us/j/81604258269?pwd=UDlqNHBsVXRYdnJTYTBKbkh5b2FtQT09
URL:https://b2x.startupsymposium.com/event/data-privacy-compliance-and-cybersecurity/
CATEGORIES:Webinars and Workshops
ATTACH;FMTTYPE=image/jpeg:https://b2x.startupsymposium.com/wp-content/uploads/2021/09/Jones-copy.jpg
END:VEVENT
END:VCALENDAR