BEGIN:VCALENDAR
VERSION:2.0
PRODID:-//B2X Startup Symposium - ECPv6.15.20//NONSGML v1.0//EN
CALSCALE:GREGORIAN
METHOD:PUBLISH
X-WR-CALNAME:B2X Startup Symposium
X-ORIGINAL-URL:https://b2x.startupsymposium.com
X-WR-CALDESC:Events for B2X Startup Symposium
REFRESH-INTERVAL;VALUE=DURATION:PT1H
X-Robots-Tag:noindex
X-PUBLISHED-TTL:PT1H
BEGIN:VTIMEZONE
TZID:America/Los_Angeles
BEGIN:DAYLIGHT
TZOFFSETFROM:-0800
TZOFFSETTO:-0700
TZNAME:PDT
DTSTART:20200308T100000
END:DAYLIGHT
BEGIN:STANDARD
TZOFFSETFROM:-0700
TZOFFSETTO:-0800
TZNAME:PST
DTSTART:20201101T090000
END:STANDARD
BEGIN:DAYLIGHT
TZOFFSETFROM:-0800
TZOFFSETTO:-0700
TZNAME:PDT
DTSTART:20210314T100000
END:DAYLIGHT
BEGIN:STANDARD
TZOFFSETFROM:-0700
TZOFFSETTO:-0800
TZNAME:PST
DTSTART:20211107T090000
END:STANDARD
BEGIN:DAYLIGHT
TZOFFSETFROM:-0800
TZOFFSETTO:-0700
TZNAME:PDT
DTSTART:20220313T100000
END:DAYLIGHT
BEGIN:STANDARD
TZOFFSETFROM:-0700
TZOFFSETTO:-0800
TZNAME:PST
DTSTART:20221106T090000
END:STANDARD
END:VTIMEZONE
BEGIN:VEVENT
DTSTART;TZID=America/Los_Angeles:20211008T090000
DTEND;TZID=America/Los_Angeles:20211008T103000
DTSTAMP:20260425T183506
CREATED:20210801T202941Z
LAST-MODIFIED:20210801T203646Z
UID:3829-1633683600-1633689000@b2x.startupsymposium.com
SUMMARY:Business Model Canvas
DESCRIPTION:A visual representation of the various elements of your Business Model on a Lean Canvas which allows you to: \n\nSee the relationships among the parts of your model\nIdentify hypothesis\, assumptions and risks\nPlan validation testing (market\, channels\, pricing)\nFind ways to add value or reduce cost\nBrainstorm market disruption strategies\n\nEvent Link – It ONLY works for Eventbrite Registrants: \nhttps://us02web.zoom.us/j/83750620098?pwd=V0NXTzBNcFhMRU1JNnZWdWhham9tdz09
URL:https://b2x.startupsymposium.com/event/business-model-canvas/
CATEGORIES:Webinars and Workshops
ATTACH;FMTTYPE=image/jpeg:https://b2x.startupsymposium.com/wp-content/uploads/2021/07/Web-CheckmarkMan.jpg
END:VEVENT
END:VCALENDAR