BEGIN:VCALENDAR
VERSION:2.0
PRODID:-//B2X Startup Symposium - ECPv6.15.20//NONSGML v1.0//EN
CALSCALE:GREGORIAN
METHOD:PUBLISH
X-WR-CALNAME:B2X Startup Symposium
X-ORIGINAL-URL:https://b2x.startupsymposium.com
X-WR-CALDESC:Events for B2X Startup Symposium
REFRESH-INTERVAL;VALUE=DURATION:PT1H
X-Robots-Tag:noindex
X-PUBLISHED-TTL:PT1H
BEGIN:VTIMEZONE
TZID:America/Los_Angeles
BEGIN:DAYLIGHT
TZOFFSETFROM:-0800
TZOFFSETTO:-0700
TZNAME:PDT
DTSTART:20190310T100000
END:DAYLIGHT
BEGIN:STANDARD
TZOFFSETFROM:-0700
TZOFFSETTO:-0800
TZNAME:PST
DTSTART:20191103T090000
END:STANDARD
BEGIN:DAYLIGHT
TZOFFSETFROM:-0800
TZOFFSETTO:-0700
TZNAME:PDT
DTSTART:20200308T100000
END:DAYLIGHT
BEGIN:STANDARD
TZOFFSETFROM:-0700
TZOFFSETTO:-0800
TZNAME:PST
DTSTART:20201101T090000
END:STANDARD
BEGIN:DAYLIGHT
TZOFFSETFROM:-0800
TZOFFSETTO:-0700
TZNAME:PDT
DTSTART:20210314T100000
END:DAYLIGHT
BEGIN:STANDARD
TZOFFSETFROM:-0700
TZOFFSETTO:-0800
TZNAME:PST
DTSTART:20211107T090000
END:STANDARD
END:VTIMEZONE
BEGIN:VEVENT
DTSTART;TZID=America/Los_Angeles:20201027T120000
DTEND;TZID=America/Los_Angeles:20201027T150000
DTSTAMP:20260425T123214
CREATED:20200719T211635Z
LAST-MODIFIED:20200913T021908Z
UID:2509-1603800000-1603810800@b2x.startupsymposium.com
SUMMARY:AI Blockchain Robotics Applicants Present Live to Judging Panel
DESCRIPTION:AI\, Blockchain\, Robotics – Live Judging Panel – ALL TIMES ARE PACIFIC TIME ZONE \nStartups will have the opportunity to present a 5-minute pitch followed by a 5-minute Q&A. \nThis is the event link. It ONLY works for registrants.https://us02web.zoom.us/j/85705142694?pwd=UE5YcDlvTXN5VmJBRW9zM0pQcm5vdz09
URL:https://b2x.startupsymposium.com/event/ai-blockchain-robotics-applicants-present-live-to-judging-panel/
CATEGORIES:Live Judging Panel
ATTACH;FMTTYPE=image/jpeg:https://b2x.startupsymposium.com/wp-content/uploads/2020/07/AIBCRPP.jpg
END:VEVENT
END:VCALENDAR