BEGIN:VCALENDAR
VERSION:2.0
PRODID:-//B2X Startup Symposium - ECPv6.15.20//NONSGML v1.0//EN
CALSCALE:GREGORIAN
METHOD:PUBLISH
X-WR-CALNAME:B2X Startup Symposium
X-ORIGINAL-URL:https://b2x.startupsymposium.com
X-WR-CALDESC:Events for B2X Startup Symposium
REFRESH-INTERVAL;VALUE=DURATION:PT1H
X-Robots-Tag:noindex
X-PUBLISHED-TTL:PT1H
BEGIN:VTIMEZONE
TZID:America/Los_Angeles
BEGIN:DAYLIGHT
TZOFFSETFROM:-0800
TZOFFSETTO:-0700
TZNAME:PDT
DTSTART:20190310T100000
END:DAYLIGHT
BEGIN:STANDARD
TZOFFSETFROM:-0700
TZOFFSETTO:-0800
TZNAME:PST
DTSTART:20191103T090000
END:STANDARD
BEGIN:DAYLIGHT
TZOFFSETFROM:-0800
TZOFFSETTO:-0700
TZNAME:PDT
DTSTART:20200308T100000
END:DAYLIGHT
BEGIN:STANDARD
TZOFFSETFROM:-0700
TZOFFSETTO:-0800
TZNAME:PST
DTSTART:20201101T090000
END:STANDARD
BEGIN:DAYLIGHT
TZOFFSETFROM:-0800
TZOFFSETTO:-0700
TZNAME:PDT
DTSTART:20210314T100000
END:DAYLIGHT
BEGIN:STANDARD
TZOFFSETFROM:-0700
TZOFFSETTO:-0800
TZNAME:PST
DTSTART:20211107T090000
END:STANDARD
END:VTIMEZONE
BEGIN:VEVENT
DTSTART;TZID=America/Los_Angeles:20201027T090000
DTEND;TZID=America/Los_Angeles:20201027T110000
DTSTAMP:20260425T141401
CREATED:20200807T234420Z
LAST-MODIFIED:20200913T042047Z
UID:3028-1603789200-1603796400@b2x.startupsymposium.com
SUMMARY:Accounting and Finance Considerations for Startups
DESCRIPTION:Regardless of what stage of the business lifecycle your company is in\, having clean books and an efficient tax structure is critical to understanding where you are and where you are going. \nThis is the event link. It ONLY works for registrants.https://us02web.zoom.us/webinar/register/WN_ARuCNLMnROO4GZK8GIPUCQ
URL:https://b2x.startupsymposium.com/event/accounting-and-finance-considerations-for-startups/
CATEGORIES:Webinars and Workshops
ATTACH;FMTTYPE=image/jpeg:https://b2x.startupsymposium.com/wp-content/uploads/2020/08/KPMG600.jpg
END:VEVENT
END:VCALENDAR